BEGIN:VCALENDAR
VERSION:2.0
PRODID:-//SchoolBundle//NONSGML Calendar 1.0//EN
BEGIN:VTIMEZONE
TZID:America/Winnipeg
X-LIC-LOCATION:America/Winnipeg
BEGIN:DAYLIGHT
TZOFFSETFROM:-0600
TZOFFSETTO:-0500
TZNAME:CDT
DTSTART:19700308T020000
RRULE:FREQ=YEARLY;BYMONTH=3;BYDAY=2SU
END:DAYLIGHT
BEGIN:STANDARD
TZOFFSETFROM:-0500
TZOFFSETTO:-0600
TZNAME:CST
DTSTART:19701101T020000
RRULE:FREQ=YEARLY;BYMONTH=11;BYDAY=1SU
END:STANDARD
END:VTIMEZONE
BEGIN:VEVENT
SUMMARY:ÉBHS Kindergarten Orientation 
DESCRIPTION:2026-27 Kindergarten families (English AND French Immersion) a
 re invited to our Kindergarten Orientation at &Eacute\;cole Birds Hill Sc
 hool that will take place from 6:00 p.m.        until 7:00 p.m. You and y
 our child will get to meet some of &Eacute\;cole Birds Hill School&#39\;s
  amazing staff\, including our Principal and Vice-Principal. You will be 
 able to tour our building and see the classrooms\, gymnasium\, music room
 \, and library. Looking forward to meeting you all!
X-ALT-DESC;FMTTYPE=text/html:<p>2026-27 Kindergarten families (Englis
 h AND French Immersion) are invited to our Kindergarten Orientatio
 n at École Birds Hill School that will take place from 6:00 p.m.  
             until 7:00 p.m. You and your child will get to meet so
 me of École Birds Hill School's amazing staff, including our Princ
 ipal and Vice-Principal. You will be able to tour our building and
  see the classrooms, gymnasium, music room, and library. Looking f
 orward to meeting you all!</p>
DTSTAMP:20260421T124135Z
UID:34737@Retsd.sbc
SEQUENCE:1
URL;VALUE=URI:https://www.retsd.mb.ca/_ci/calendar/event/34737
DTSTART;TZID=America/Winnipeg:20260611T180000
DTEND;TZID=America/Winnipeg:20260611T190000
END:VEVENT
END:VCALENDAR
