BEGIN:VCALENDAR
VERSION:2.0
PRODID:-//SchoolBundle//NONSGML Calendar 1.0//EN
BEGIN:VTIMEZONE
TZID:America/Winnipeg
X-LIC-LOCATION:America/Winnipeg
BEGIN:DAYLIGHT
TZOFFSETFROM:-0600
TZOFFSETTO:-0500
TZNAME:CDT
DTSTART:19700308T020000
RRULE:FREQ=YEARLY;BYMONTH=3;BYDAY=2SU
END:DAYLIGHT
BEGIN:STANDARD
TZOFFSETFROM:-0500
TZOFFSETTO:-0600
TZNAME:CST
DTSTART:19701101T020000
RRULE:FREQ=YEARLY;BYMONTH=11;BYDAY=1SU
END:STANDARD
END:VTIMEZONE
BEGIN:VEVENT
SUMMARY:Transcona Collegiate Safe Grad Dinner & Dance
LOCATION:350 St Mary Ave, Winnipeg, MB R3C 3J2, Canada
DESCRIPTION:Transcona Collegiate Safe Grad Dinner &amp\; Dance. More infor
 mation to follow for grade 12 graduates.
X-ALT-DESC;FMTTYPE=text/html:<p><span style="color: rgb(0, 0, 0); fon
 t-family: Calibri; font-size: 18px; font-style: normal; font-varia
 nt-ligatures: normal; font-variant-caps: normal; font-weight: 400;
  letter-spacing: normal; orphans: 2; text-align: left; text-indent
 : 0px; text-transform: none; widows: 2; word-spacing: 0px; -webkit
 -text-stroke-width: 0px; white-space: normal; background-color: rg
 b(248, 248, 248); text-decoration-thickness: initial; text-decorat
 ion-style: initial; text-decoration-color: initial; display: inlin
 e !important; float: none;" id="isPasted">Transcona Collegiate Saf
 e Grad Dinner & Dance. More information to follow for grade 12 gra
 duates.</span></p>
DTSTAMP:20260424T094130Z
UID:34391@Retsd.sbc
SEQUENCE:2
URL;VALUE=URI:https://www.retsd.mb.ca/_ci/calendar/event/34391
DTSTART;VALUE=DATE:20260625
DTEND;VALUE=DATE:20260626
END:VEVENT
END:VCALENDAR
