BEGIN:VCALENDAR
VERSION:2.0
PRODID:-//SchoolBundle//NONSGML Calendar 1.0//EN
BEGIN:VTIMEZONE
TZID:America/Winnipeg
X-LIC-LOCATION:America/Winnipeg
BEGIN:DAYLIGHT
TZOFFSETFROM:-0600
TZOFFSETTO:-0500
TZNAME:CDT
DTSTART:19700308T020000
RRULE:FREQ=YEARLY;BYMONTH=3;BYDAY=2SU
END:DAYLIGHT
BEGIN:STANDARD
TZOFFSETFROM:-0500
TZOFFSETTO:-0600
TZNAME:CST
DTSTART:19701101T020000
RRULE:FREQ=YEARLY;BYMONTH=11;BYDAY=1SU
END:STANDARD
END:VTIMEZONE
BEGIN:VEVENT
SUMMARY:Grade 5 trip to John W. Gunn
DESCRIPTION:Students will be walking to John W. Gunn to attend a performan
 ce\, &quot\;Frozen Kids&quot\;.
X-ALT-DESC;FMTTYPE=text/html:<p>Students will be walking to John W. G
 unn to attend a performance, "Frozen Kids".</p>
DTSTAMP:20260420T183202Z
UID:34254@Retsd.sbc
SEQUENCE:1
URL;VALUE=URI:https://www.retsd.mb.ca/_ci/calendar/event/34254
DTSTART;TZID=America/Winnipeg:20260428T094500
DTEND;TZID=America/Winnipeg:20260428T113000
END:VEVENT
END:VCALENDAR
