BEGIN:VCALENDAR
VERSION:2.0
PRODID:-//SchoolBundle//NONSGML Calendar 1.0//EN
BEGIN:VTIMEZONE
TZID:America/Winnipeg
X-LIC-LOCATION:America/Winnipeg
BEGIN:DAYLIGHT
TZOFFSETFROM:-0600
TZOFFSETTO:-0500
TZNAME:CDT
DTSTART:19700308T020000
RRULE:FREQ=YEARLY;BYMONTH=3;BYDAY=2SU
END:DAYLIGHT
BEGIN:STANDARD
TZOFFSETFROM:-0500
TZOFFSETTO:-0600
TZNAME:CST
DTSTART:19701101T020000
RRULE:FREQ=YEARLY;BYMONTH=11;BYDAY=1SU
END:STANDARD
END:VTIMEZONE
BEGIN:VEVENT
SUMMARY:CMMC Convocation
DESCRIPTION:Convocation will take place on June 23rd in the CMMC gymnasium
 . More information to follow.
X-ALT-DESC;FMTTYPE=text/html:<p>Convocation will take place on June 2
 3rd in the CMMC gymnasium. More information to follow.</p>
DTSTAMP:20260421T201507Z
UID:33248@Retsd.sbc
SEQUENCE:1
URL;VALUE=URI:https://www.retsd.mb.ca/_ci/calendar/event/33248
DTSTART;VALUE=DATE:20260623
DTEND;VALUE=DATE:20260624
END:VEVENT
END:VCALENDAR
