BEGIN:VCALENDAR
VERSION:2.0
PRODID:-//SchoolBundle//NONSGML Calendar 1.0//EN
BEGIN:VTIMEZONE
TZID:America/Winnipeg
X-LIC-LOCATION:America/Winnipeg
BEGIN:DAYLIGHT
TZOFFSETFROM:-0600
TZOFFSETTO:-0500
TZNAME:CDT
DTSTART:19700308T020000
RRULE:FREQ=YEARLY;BYMONTH=3;BYDAY=2SU
END:DAYLIGHT
BEGIN:STANDARD
TZOFFSETFROM:-0500
TZOFFSETTO:-0600
TZNAME:CST
DTSTART:19701101T020000
RRULE:FREQ=YEARLY;BYMONTH=11;BYDAY=1SU
END:STANDARD
END:VTIMEZONE
BEGIN:VEVENT
SUMMARY:Professional Development Day
LOCATION:1305 Winona St, Winnipeg, MB R2C 2P9, Canada
DESCRIPTION:No school for Transcona Collegiate students.
X-ALT-DESC;FMTTYPE=text/html:<p>No school for Transcona Collegiate st
 udents.</p>
DTSTAMP:20260424T093046Z
UID:30899@Retsd.sbc
SEQUENCE:1
URL;VALUE=URI:https://www.retsd.mb.ca/_ci/calendar/event/30899
DTSTART;VALUE=DATE:20260612
DTEND;VALUE=DATE:20260613
END:VEVENT
END:VCALENDAR
