BEGIN:VCALENDAR
VERSION:2.0
PRODID:-//SchoolBundle//NONSGML Calendar 1.0//EN
BEGIN:VTIMEZONE
TZID:America/Winnipeg
X-LIC-LOCATION:America/Winnipeg
BEGIN:DAYLIGHT
TZOFFSETFROM:-0600
TZOFFSETTO:-0500
TZNAME:CDT
DTSTART:19700308T020000
RRULE:FREQ=YEARLY;BYMONTH=3;BYDAY=2SU
END:DAYLIGHT
BEGIN:STANDARD
TZOFFSETFROM:-0500
TZOFFSETTO:-0600
TZNAME:CST
DTSTART:19701101T020000
RRULE:FREQ=YEARLY;BYMONTH=11;BYDAY=1SU
END:STANDARD
END:VTIMEZONE
BEGIN:VEVENT
SUMMARY:Day in the Life of Kindergarten 2026-2027 
DESCRIPTION:For 2026-2027 Kindergarten students
X-ALT-DESC;FMTTYPE=text/html:<p><span style="color: rgb(0, 0, 0); fon
 t-family: Calibri; font-size: 18px; font-style: normal; font-varia
 nt-ligatures: normal; font-variant-caps: normal; font-weight: 400;
  letter-spacing: normal; orphans: 2; text-align: left; text-indent
 : 0px; text-transform: none; widows: 2; word-spacing: 0px; -webkit
 -text-stroke-width: 0px; white-space: normal; background-color: rg
 b(248, 248, 248); text-decoration-thickness: initial; text-decorat
 ion-style: initial; text-decoration-color: initial; display: inlin
 e !important; float: none;" id="isPasted">For 2026-2027 Kindergart
 en students</span></p>
DTSTAMP:20260425T023101Z
UID:28427@Retsd.sbc
SEQUENCE:2
URL;VALUE=URI:https://www.retsd.mb.ca/_ci/calendar/event/28427
DTSTART;TZID=America/Winnipeg:20260528T170000
DTEND;TZID=America/Winnipeg:20260528T181500
END:VEVENT
END:VCALENDAR
