BEGIN:VCALENDAR
VERSION:2.0
PRODID:-//SchoolBundle//NONSGML Calendar 1.0//EN
BEGIN:VTIMEZONE
TZID:America/Vancouver
X-LIC-LOCATION:America/Vancouver
BEGIN:DAYLIGHT
TZOFFSETFROM:-0800
TZOFFSETTO:-0700
TZNAME:EDT
DTSTART:19700308T020000
RRULE:FREQ=YEARLY;BYMONTH=3;BYDAY=2SU
END:DAYLIGHT
BEGIN:STANDARD
TZOFFSETFROM:-0700
TZOFFSETTO:-0800
TZNAME:EST
DTSTART:19701101T020000
RRULE:FREQ=YEARLY;BYMONTH=11;BYDAY=1SU
END:STANDARD
END:VTIMEZONE
BEGIN:VEVENT
SUMMARY:Earth Day
DESCRIPTION:Earth Day\, a global observance marked every year on April 22\
 , provides a vital platform to raise awareness about pressing environment
 al issues and encourage action towards sustainable solutions.
X-ALT-DESC;FMTTYPE=text/html:<p id="isPasted">Earth Day, a global obs
 ervance marked every year on April 22, provides a vital platform t
 o raise awareness about pressing environmental issues and encourag
 e action towards sustainable solutions.</p>
DTSTAMP:20260420T124237Z
UID:4632@Mpsd.sbc
SEQUENCE:2
URL;VALUE=URI:https://www.mpsd.ca/_ci/calendar/event/4632
DTSTART;VALUE=DATE:20240422
DTEND;VALUE=DATE:20240423
RRULE:FREQ=MONTHLY;INTERVAL=12;BYMONTHDAY=22;UNTIL=20330422T070000Z
END:VEVENT
END:VCALENDAR
