BEGIN:VCALENDAR
VERSION:2.0
PRODID:-//SchoolBundle//NONSGML Calendar 1.0//EN
BEGIN:VTIMEZONE
TZID:America/Vancouver
X-LIC-LOCATION:America/Vancouver
BEGIN:DAYLIGHT
TZOFFSETFROM:-0800
TZOFFSETTO:-0700
TZNAME:EDT
DTSTART:19700308T020000
RRULE:FREQ=YEARLY;BYMONTH=3;BYDAY=2SU
END:DAYLIGHT
BEGIN:STANDARD
TZOFFSETFROM:-0700
TZOFFSETTO:-0800
TZNAME:EST
DTSTART:19701101T020000
RRULE:FREQ=YEARLY;BYMONTH=11;BYDAY=1SU
END:STANDARD
END:VTIMEZONE
BEGIN:VEVENT
SUMMARY:Human Values Day 
DESCRIPTION:A day to embrace the eternal and universal human values of Tru
 th\, Right-Conduct\, Peace\, Love and Non-Violence.
X-ALT-DESC;FMTTYPE=text/html:<p>A day to embrace the eternal and univ
 ersal human values of Truth, Right-Conduct, Peace, Love and Non-Vi
 olence. </p>
DTSTAMP:20260420T124839Z
UID:10973@Mpsd.sbc
SEQUENCE:1
URL;VALUE=URI:https://www.mpsd.ca/_ci/calendar/event/10973
DTSTART;VALUE=DATE:20260424
DTEND;VALUE=DATE:20260425
END:VEVENT
END:VCALENDAR
