BEGIN:VCALENDAR
VERSION:2.0
PRODID:-//SchoolBundle//NONSGML Calendar 1.0//EN
BEGIN:VTIMEZONE
TZID:America/Vancouver
X-LIC-LOCATION:America/Vancouver
BEGIN:DAYLIGHT
TZOFFSETFROM:-0800
TZOFFSETTO:-0700
TZNAME:EDT
DTSTART:19700308T020000
RRULE:FREQ=YEARLY;BYMONTH=3;BYDAY=2SU
END:DAYLIGHT
BEGIN:STANDARD
TZOFFSETFROM:-0700
TZOFFSETTO:-0800
TZNAME:EST
DTSTART:19701101T020000
RRULE:FREQ=YEARLY;BYMONTH=11;BYDAY=1SU
END:STANDARD
END:VTIMEZONE
BEGIN:VEVENT
SUMMARY:National Volunteer Appreciation Week
DESCRIPTION:National Volunteer Week (NVW) is an annual celebration that re
 cognizes the contributions of volunteers across Canada and highlights the
  impact of civic participation in communities. In 2026\, NVW aligns with 
 the theme &quot\;Ignite Volunteerism&quot\;\, coinciding with Internation
 al Volunteer Year\, which emphasizes renewing Canada&rsquo\;s culture of 
 volunteering and celebrating volunteer stories. \n\nVolunteer Canada\n\n\
 nPurpose and Significance\n\nNVW provides an opportunity to thank volunte
 ers\, raise awareness about volunteerism\, and encourage more people to g
 et involved in community initiatives. It also serves as a platform for or
 ganizations to showcase the positive effects of volunteer efforts on soci
 al well-being and community resilience. \n\nNational Day Today
X-ALT-DESC;FMTTYPE=text/html:<p id="isPasted">National Volunteer Week
  (NVW) is an annual celebration that recognizes the contributions 
 of volunteers across Canada and highlights the impact of civic par
 ticipation in communities. In 2026, NVW aligns with the theme "Ign
 ite Volunteerism", coinciding with International Volunteer Year, w
 hich emphasizes renewing Canada’s culture of volunteering and cele
 brating volunteer stories. </p><p>Volunteer Canada</p><p><br></p><
 p>Purpose and Significance</p><p>NVW provides an opportunity to th
 ank volunteers, raise awareness about volunteerism, and encourage 
 more people to get involved in community initiatives. It also serv
 es as a platform for organizations to showcase the positive effect
 s of volunteer efforts on social well-being and community resilien
 ce. </p><p>National Day Today</p><p><br></p>
DTSTAMP:20260420T124231Z
UID:10151@Mpsd.sbc
SEQUENCE:3
URL;VALUE=URI:https://www.mpsd.ca/_ci/calendar/event/10151
DTSTART;VALUE=DATE:20260419
DTEND;VALUE=DATE:20260426
RRULE:FREQ=MONTHLY;INTERVAL=12;BYSETPOS=3;BYDAY=SU;COUNT=5
END:VEVENT
END:VCALENDAR
