BEGIN:VCALENDAR
VERSION:2.0
PRODID:-//SchoolBundle//NONSGML Calendar 1.0//EN
BEGIN:VTIMEZONE
TZID:America/Winnipeg
X-LIC-LOCATION:America/Winnipeg
BEGIN:DAYLIGHT
TZOFFSETFROM:-0600
TZOFFSETTO:-0500
TZNAME:CDT
DTSTART:19700308T020000
RRULE:FREQ=YEARLY;BYMONTH=3;BYDAY=2SU
END:DAYLIGHT
BEGIN:STANDARD
TZOFFSETFROM:-0500
TZOFFSETTO:-0600
TZNAME:CST
DTSTART:19701101T020000
RRULE:FREQ=YEARLY;BYMONTH=11;BYDAY=1SU
END:STANDARD
END:VTIMEZONE
BEGIN:VEVENT
SUMMARY:6th Annual MFNSS Softball Tournament
LOCATION:Little Mountain Sportsplex, Klimpke Rd, Winnipeg MB
DESCRIPTION:Save the date for the 6th Annual MFNSS Softball Tournament to 
 be held at Little Mountain Sportsplex June 3rd &amp\; 4th\, 2026!\nMore d
 etails to come
X-ALT-DESC;FMTTYPE=text/html:<p><b style="color: rgb(36, 36, 36); fon
 t-family: Calibri, sans-serif; font-size: 14.6667px; font-style: n
 ormal; font-variant-ligatures: normal; font-variant-caps: normal; 
 letter-spacing: normal; orphans: 2; text-align: start; text-indent
 : 0px; text-transform: none; widows: 2; word-spacing: 0px; -webkit
 -text-stroke-width: 0px; white-space: normal; background-color: rg
 b(255, 255, 255); text-decoration-thickness: initial; text-decorat
 ion-style: initial; text-decoration-color: initial;" id="isPasted"
 ><span data-olk-copy-source="MessageBody" style="border: 0px; font
 -style: inherit; font-variant: inherit; font-weight: inherit; font
 -stretch: inherit; font-size: 14pt; line-height: inherit; font-fam
 ily: inherit; font-optical-sizing: inherit; font-size-adjust: inhe
 rit; font-kerning: inherit; font-feature-settings: inherit; font-v
 ariation-settings: inherit; font-language-override: inherit; margi
 n: 0px; padding: 0px; vertical-align: baseline; color: inherit;">S
 ave the date for the 6<sup>th</sup> Annual MFNSS Softball Tourname
 nt to be held at Little Mountain Sportsplex June 3<sup>rd</sup> & 
 4<sup>th</sup>, 2026!</span></b></p><p><b id="isPasted"><span data
 -olk-copy-source="MessageBody" style="border: 0px; font-style: inh
 erit; font-variant: inherit; font-weight: inherit; font-stretch: i
 nherit; font-size: 14pt; line-height: inherit; font-family: inheri
 t; font-optical-sizing: inherit; font-size-adjust: inherit; font-k
 erning: inherit; font-feature-settings: inherit; font-variation-se
 ttings: inherit; font-language-override: inherit; margin: 0px; pad
 ding: 0px; vertical-align: baseline; color: inherit;"><span class=
 "fr-clone" data-id="0" data-type="true" style="display: none; line
 -height: 0;"></span></span></b><strong><br></strong></p><p><b id="
 isPasted"><span data-olk-copy-source="MessageBody" style="border: 
 0px; font-style: inherit; font-variant: inherit; font-weight: inhe
 rit; font-stretch: inherit; font-size: 14pt; line-height: inherit;
  font-family: inherit; font-optical-sizing: inherit; font-size-adj
 ust: inherit; font-kerning: inherit; font-feature-settings: inheri
 t; font-variation-settings: inherit; font-language-override: inher
 it; margin: 0px; padding: 0px; vertical-align: baseline; color: in
 herit;"><strong>More details to come<span class="fr-clone" data-id
 ="0" data-type="false" style="display: none; line-height: 0;"></sp
 an></strong><strong></strong></span></b></p>
DTSTAMP:20260423T123006Z
UID:2199@Mfnss.sbc
SEQUENCE:1
URL;VALUE=URI:https://www.mfnss.com/_ci/calendar/event/2199
DTSTART;TZID=America/Winnipeg:20260603T090000
DTEND;TZID=America/Winnipeg:20260604T153000
END:VEVENT
END:VCALENDAR
