BEGIN:VCALENDAR
VERSION:2.0
PRODID:-//SchoolBundle//NONSGML Calendar 1.0//EN
BEGIN:VTIMEZONE
TZID:America/Winnipeg
X-LIC-LOCATION:America/Winnipeg
BEGIN:DAYLIGHT
TZOFFSETFROM:-0600
TZOFFSETTO:-0500
TZNAME:CDT
DTSTART:19700308T020000
RRULE:FREQ=YEARLY;BYMONTH=3;BYDAY=2SU
END:DAYLIGHT
BEGIN:STANDARD
TZOFFSETFROM:-0500
TZOFFSETTO:-0600
TZNAME:CST
DTSTART:19701101T020000
RRULE:FREQ=YEARLY;BYMONTH=11;BYDAY=1SU
END:STANDARD
END:VTIMEZONE
BEGIN:VEVENT
SUMMARY:Fun Lunch Day - Subway
DESCRIPTION:This is for all students whose parents have purchased a fun lu
 nch through their HealthyHunger account.
X-ALT-DESC;FMTTYPE=text/html:<p>This is for all students whose parent
 s have purchased a fun lunch through their HealthyHunger account.<
 /p>
DTSTAMP:20260424T110951Z
UID:81872@Lrsd.sbc
SEQUENCE:1
URL;VALUE=URI:https://www.lrsd.net/_ci/calendar/event/81872
DTSTART;TZID=America/Winnipeg:20260427T123000
DTEND;TZID=America/Winnipeg:20260427T133000
END:VEVENT
END:VCALENDAR
