BEGIN:VCALENDAR
VERSION:2.0
PRODID:-//SchoolBundle//NONSGML Calendar 1.0//EN
BEGIN:VTIMEZONE
TZID:America/Winnipeg
X-LIC-LOCATION:America/Winnipeg
BEGIN:DAYLIGHT
TZOFFSETFROM:-0600
TZOFFSETTO:-0500
TZNAME:CDT
DTSTART:19700308T020000
RRULE:FREQ=YEARLY;BYMONTH=3;BYDAY=2SU
END:DAYLIGHT
BEGIN:STANDARD
TZOFFSETFROM:-0500
TZOFFSETTO:-0600
TZNAME:CST
DTSTART:19701101T020000
RRULE:FREQ=YEARLY;BYMONTH=11;BYDAY=1SU
END:STANDARD
END:VTIMEZONE
BEGIN:VEVENT
SUMMARY:Folk Dance in the Park at H.S. Paul
LOCATION:160 Southglen Blvd, Winnipeg, MB R2N 3J3, Canada
DESCRIPTION:Students in Grades 1-3 from H.S. Paul\, Julie-Riel\, and St. G
 ermain gather to share dances from around the world. This event is open t
 o family and parents who want to see their child(ren) dance.
X-ALT-DESC;FMTTYPE=text/html:<p>Students in Grades 1-3 from H.S. Paul
 , Julie-Riel, and St. Germain gather to share dances from around t
 he world. This event is open to family and parents who want to see
  their child(ren) dance.</p>
DTSTAMP:20260420T005733Z
UID:79211@Lrsd.sbc
SEQUENCE:1
URL;VALUE=URI:https://www.lrsd.net/_ci/calendar/event/79211
DTSTART;TZID=America/Winnipeg:20260504T093000
DTEND;TZID=America/Winnipeg:20260504T113000
END:VEVENT
END:VCALENDAR
