BEGIN:VCALENDAR
VERSION:2.0
PRODID:-//SchoolBundle//NONSGML Calendar 1.0//EN
BEGIN:VTIMEZONE
TZID:America/Edmonton
X-LIC-LOCATION:America/Edmonton
BEGIN:DAYLIGHT
TZOFFSETFROM:-0700
TZOFFSETTO:-0600
TZNAME:EDT
DTSTART:19700308T020000
RRULE:FREQ=YEARLY;BYMONTH=3;BYDAY=2SU
END:DAYLIGHT
BEGIN:STANDARD
TZOFFSETFROM:-0600
TZOFFSETTO:-0700
TZNAME:EST
DTSTART:19701101T020000
RRULE:FREQ=YEARLY;BYMONTH=11;BYDAY=1SU
END:STANDARD
END:VTIMEZONE
BEGIN:VEVENT
SUMMARY:K-3 Yoga
DESCRIPTION:
DTSTAMP:20260419T152404Z
UID:27191@Fsd.sbc
SEQUENCE:2
URL;VALUE=URI:https://www.foothillsschooldivision.ca/_ci/calendar/event/27191
DTSTART;VALUE=DATE:20260420
DTEND;VALUE=DATE:20260424
END:VEVENT
END:VCALENDAR
