BEGIN:VCALENDAR
VERSION:2.0
PRODID:-//SchoolBundle//NONSGML Calendar 1.0//EN
BEGIN:VTIMEZONE
TZID:America/Edmonton
X-LIC-LOCATION:America/Edmonton
BEGIN:DAYLIGHT
TZOFFSETFROM:-0700
TZOFFSETTO:-0600
TZNAME:EDT
DTSTART:19700308T020000
RRULE:FREQ=YEARLY;BYMONTH=3;BYDAY=2SU
END:DAYLIGHT
BEGIN:STANDARD
TZOFFSETFROM:-0600
TZOFFSETTO:-0700
TZNAME:EST
DTSTART:19701101T020000
RRULE:FREQ=YEARLY;BYMONTH=11;BYDAY=1SU
END:STANDARD
END:VTIMEZONE
BEGIN:VEVENT
SUMMARY:Parent School Council and Parent Advisory and Fundraising Ass
 ociation Meetings
DESCRIPTION:9am - Parent School Council Meeting\n\n10am - Parent Advisory 
 and Funding Association Meeting\n\nEveryone is welcome\n\nPlease contact 
 the office if you would like to attend virtually
X-ALT-DESC;FMTTYPE=text/html:<p style='box-sizing: border-box; margin
 -top: 0px; margin-bottom: 1rem; color: rgb(0, 0, 0); font-family: 
 "Open Sans", Helvetica, Arial, sans-serif; font-size: 18px; font-s
 tyle: normal; font-variant-ligatures: normal; font-variant-caps: n
 ormal; font-weight: 400; letter-spacing: normal; orphans: 2; text-
 align: left; text-indent: 0px; text-transform: none; widows: 2; wo
 rd-spacing: 0px; -webkit-text-stroke-width: 0px; white-space: norm
 al; background-color: rgb(238, 238, 238); text-decoration-thicknes
 s: initial; text-decoration-style: initial; text-decoration-color:
  initial;' id="isPasted">9am - Parent School Council Meeting</p><p
  style='box-sizing: border-box; margin-top: 0px; margin-bottom: 1r
 em; color: rgb(0, 0, 0); font-family: "Open Sans", Helvetica, Aria
 l, sans-serif; font-size: 18px; font-style: normal; font-variant-l
 igatures: normal; font-variant-caps: normal; font-weight: 400; let
 ter-spacing: normal; orphans: 2; text-align: left; text-indent: 0p
 x; text-transform: none; widows: 2; word-spacing: 0px; -webkit-tex
 t-stroke-width: 0px; white-space: normal; background-color: rgb(23
 8, 238, 238); text-decoration-thickness: initial; text-decoration-
 style: initial; text-decoration-color: initial;'>10am - Parent Adv
 isory and Funding Association Meeting</p><p style='box-sizing: bor
 der-box; margin-top: 0px; margin-bottom: 1rem; color: rgb(0, 0, 0)
 ; font-family: "Open Sans", Helvetica, Arial, sans-serif; font-siz
 e: 18px; font-style: normal; font-variant-ligatures: normal; font-
 variant-caps: normal; font-weight: 400; letter-spacing: normal; or
 phans: 2; text-align: left; text-indent: 0px; text-transform: none
 ; widows: 2; word-spacing: 0px; -webkit-text-stroke-width: 0px; wh
 ite-space: normal; background-color: rgb(238, 238, 238); text-deco
 ration-thickness: initial; text-decoration-style: initial; text-de
 coration-color: initial;'>Everyone is welcome</p><p style='box-siz
 ing: border-box; margin-top: 0px; margin-bottom: 1rem; color: rgb(
 0, 0, 0); font-family: "Open Sans", Helvetica, Arial, sans-serif; 
 font-size: 18px; font-style: normal; font-variant-ligatures: norma
 l; font-variant-caps: normal; font-weight: 400; letter-spacing: no
 rmal; orphans: 2; text-align: left; text-indent: 0px; text-transfo
 rm: none; widows: 2; word-spacing: 0px; -webkit-text-stroke-width:
  0px; white-space: normal; background-color: rgb(238, 238, 238); t
 ext-decoration-thickness: initial; text-decoration-style: initial;
  text-decoration-color: initial;'>Please contact the office if you
  would like to attend virtually </p>
DTSTAMP:20260421T170926Z
UID:26974@Fsd.sbc
SEQUENCE:1
URL;VALUE=URI:https://www.foothillsschooldivision.ca/_ci/calendar/event/26974
DTSTART;VALUE=DATE:20260427
DTEND;VALUE=DATE:20260428
END:VEVENT
END:VCALENDAR
