BEGIN:VCALENDAR
VERSION:2.0
PRODID:-//SchoolBundle//NONSGML Calendar 1.0//EN
BEGIN:VTIMEZONE
TZID:America/Edmonton
X-LIC-LOCATION:America/Edmonton
BEGIN:DAYLIGHT
TZOFFSETFROM:-0700
TZOFFSETTO:-0600
TZNAME:EDT
DTSTART:19700308T020000
RRULE:FREQ=YEARLY;BYMONTH=3;BYDAY=2SU
END:DAYLIGHT
BEGIN:STANDARD
TZOFFSETFROM:-0600
TZOFFSETTO:-0700
TZNAME:EST
DTSTART:19701101T020000
RRULE:FREQ=YEARLY;BYMONTH=11;BYDAY=1SU
END:STANDARD
END:VTIMEZONE
BEGIN:VEVENT
SUMMARY:Learner Conferences (Parent Teacher Interviews) Day 2
DESCRIPTION:Learner Conferences\n\n3:50-5:00pm &amp\; 5:30-7:20pm
X-ALT-DESC;FMTTYPE=text/html:<p id="isPasted">Learner Conferences</p>
 <p>3:50-5:00pm & 5:30-7:20pm</p>
DTSTAMP:20260424T050513Z
UID:26751@Fsd.sbc
SEQUENCE:2
URL;VALUE=URI:https://www.foothillsschooldivision.ca/_ci/calendar/event/26751
DTSTART;TZID=America/Edmonton:20260423T155000
DTEND;TZID=America/Edmonton:20260423T192000
END:VEVENT
END:VCALENDAR
