BEGIN:VCALENDAR
VERSION:2.0
PRODID:-//SchoolBundle//NONSGML Calendar 1.0//EN
BEGIN:VTIMEZONE
TZID:America/New_York
X-LIC-LOCATION:America/New_York
BEGIN:DAYLIGHT
TZOFFSETFROM:-0500
TZOFFSETTO:-0400
TZNAME:EDT
DTSTART:19700308T020000
RRULE:FREQ=YEARLY;BYMONTH=3;BYDAY=2SU
END:DAYLIGHT
BEGIN:STANDARD
TZOFFSETFROM:-0400
TZOFFSETTO:-0500
TZNAME:EST
DTSTART:19701101T020000
RRULE:FREQ=YEARLY;BYMONTH=11;BYDAY=1SU
END:STANDARD
END:VTIMEZONE
BEGIN:VEVENT
SUMMARY:VG Tennis @ McIntosh HS STATE ROUND 2
LOCATION:South Suburbs, 201 Walt Banks Rd, Peachtree City, GA 30269, 
 USA
DESCRIPTION:
DTSTAMP:20260425T202525Z
UID:128567@Cobb.sbc
SEQUENCE:1
URL;VALUE=URI:https://www.cobbk12.org/_ci/calendar/event/128567
DTSTART;TZID=America/New_York:20260427T163000
DTEND;TZID=America/New_York:20260427T183000
END:VEVENT
END:VCALENDAR
