BEGIN:VCALENDAR
VERSION:2.0
PRODID:-//SchoolBundle//NONSGML Calendar 1.0//EN
BEGIN:VTIMEZONE
TZID:America/New_York
X-LIC-LOCATION:America/New_York
BEGIN:DAYLIGHT
TZOFFSETFROM:-0500
TZOFFSETTO:-0400
TZNAME:EDT
DTSTART:19700308T020000
RRULE:FREQ=YEARLY;BYMONTH=3;BYDAY=2SU
END:DAYLIGHT
BEGIN:STANDARD
TZOFFSETFROM:-0400
TZOFFSETTO:-0500
TZNAME:EST
DTSTART:19701101T020000
RRULE:FREQ=YEARLY;BYMONTH=11;BYDAY=1SU
END:STANDARD
END:VTIMEZONE
BEGIN:VEVENT
SUMMARY:Spring Musical - Les Miserables
LOCATION:3001 Hembree Rd NE, Marietta, GA 30062, USA
DESCRIPTION:Tickets &amp\; Info
X-ALT-DESC;FMTTYPE=text/html:<p><a href="https://www.popetheatre.org/
 springmusical" target="_blank" rel="noopener noreferrer">Tickets &
  Info</a></p>
DTSTAMP:20260423T121840Z
UID:127823@Cobb.sbc
SEQUENCE:1
URL;VALUE=URI:https://www.cobbk12.org/_ci/calendar/event/127823
DTSTART;TZID=America/New_York:20260418T140000
DTEND;TZID=America/New_York:20260418T160000
RRULE:FREQ=WEEKLY;INTERVAL=1;BYDAY=SA;UNTIL=20260425T200000Z
END:VEVENT
END:VCALENDAR
