BEGIN:VCALENDAR
VERSION:2.0
PRODID:-//SchoolBundle//NONSGML Calendar 1.0//EN
BEGIN:VTIMEZONE
TZID:America/New_York
X-LIC-LOCATION:America/New_York
BEGIN:DAYLIGHT
TZOFFSETFROM:-0500
TZOFFSETTO:-0400
TZNAME:EDT
DTSTART:19700308T020000
RRULE:FREQ=YEARLY;BYMONTH=3;BYDAY=2SU
END:DAYLIGHT
BEGIN:STANDARD
TZOFFSETFROM:-0400
TZOFFSETTO:-0500
TZNAME:EST
DTSTART:19701101T020000
RRULE:FREQ=YEARLY;BYMONTH=11;BYDAY=1SU
END:STANDARD
END:VTIMEZONE
BEGIN:VEVENT
SUMMARY:STEM Night and Book Fair
DESCRIPTION:Join us for a fun‑filled evening of learning\, discovery\, and
  celebration with the whole family!\n\n\nApril 23rd\, 2026\n\n6:00 -8:00 
 PM\n\nSedalia Park Cafeteria\n\n\n\nExplore hands‑on activities and excit
 ing science experiments \n\nthroughout the night\, including:\n\n\nDensit
 y Layer Experiment\n\nCreate liquid layers and discover what floats and s
 inks.\n\nBinary Code Bracelets\n\nUse colorful beads to spell words using
  real computer coding patterns.\n\nPaper Chromatography Bookmarks\n\nSpli
 t marker colors and reveal the hidden pigments inside the ink.\n\nInertia
  Experiment\n\nSee firsthand how objects stay still or keep moving&mdash\
 ;Newton&rsquo\;s laws in action.\n\nProjectile Motion Rockets\n\nLaunch m
 ini‑rockets and test how far they can travel.\n\n\nLiterati Book Fair\n\n
 \nStop by the Media Center to explore great books for every reader.\n\n\n
 \nThis free event is open to all Sedalia Park students and their families
 . Come ready to learn\, explore\, and be inspired!
X-ALT-DESC;FMTTYPE=text/html:<p id="isPasted">Join us for a fun‑fille
 d evening of learning, discovery, and celebration with the whole f
 amily!</p><p><br></p><p>April 23rd, 2026</p><p>6:00 -8:00 PM</p><p
 >Sedalia Park Cafeteria</p><p><br></p><p><br></p><p>Explore hands‑
 on activities and exciting science experiments </p><p>throughout t
 he night, including:</p><p><br></p><p>Density Layer Experiment</p>
 <p>Create liquid layers and discover what floats and sinks.</p><p>
 Binary Code Bracelets</p><p>Use colorful beads to spell words usin
 g real computer coding patterns.</p><p>Paper Chromatography Bookma
 rks</p><p>Split marker colors and reveal the hidden pigments insid
 e the ink.</p><p>Inertia Experiment</p><p>See firsthand how object
 s stay still or keep moving—Newton’s laws in action.</p><p>Project
 ile Motion Rockets</p><p>Launch mini‑rockets and test how far they
  can travel.</p><p><br></p><p>Literati Book Fair</p><p><br></p><p>
 Stop by the Media Center to explore great books for every reader.<
 /p><p><br></p><p><br></p><p>This free event is open to all Sedalia
  Park students and their families. Come ready to learn, explore, a
 nd be inspired!</p><p><br></p>
DTSTAMP:20260421T195412Z
UID:127473@Cobb.sbc
SEQUENCE:1
URL;VALUE=URI:https://www.cobbk12.org/_ci/calendar/event/127473
DTSTART;TZID=America/New_York:20260423T180000
DTEND;TZID=America/New_York:20260423T200000
END:VEVENT
END:VCALENDAR
