BEGIN:VCALENDAR
VERSION:2.0
PRODID:-//SchoolBundle//NONSGML Calendar 1.0//EN
BEGIN:VTIMEZONE
TZID:America/New_York
X-LIC-LOCATION:America/New_York
BEGIN:DAYLIGHT
TZOFFSETFROM:-0500
TZOFFSETTO:-0400
TZNAME:EDT
DTSTART:19700308T020000
RRULE:FREQ=YEARLY;BYMONTH=3;BYDAY=2SU
END:DAYLIGHT
BEGIN:STANDARD
TZOFFSETFROM:-0400
TZOFFSETTO:-0500
TZNAME:EST
DTSTART:19701101T020000
RRULE:FREQ=YEARLY;BYMONTH=11;BYDAY=1SU
END:STANDARD
END:VTIMEZONE
BEGIN:VEVENT
SUMMARY:3rd & 5th Milestone
DESCRIPTION:5th grade ELA section 3\n\n3rd grade Math section 2
X-ALT-DESC;FMTTYPE=text/html:<p>5th grade ELA section 3</p><p>3rd gra
 de Math section 2</p>
DTSTAMP:20260425T205457Z
UID:126102@Cobb.sbc
SEQUENCE:1
URL;VALUE=URI:https://www.cobbk12.org/_ci/calendar/event/126102
DTSTART;TZID=America/New_York:20260429T080000
DTEND;TZID=America/New_York:20260429T100000
END:VEVENT
END:VCALENDAR
