BEGIN:VCALENDAR
VERSION:2.0
PRODID:-//SchoolBundle//NONSGML Calendar 1.0//EN
BEGIN:VTIMEZONE
TZID:America/New_York
X-LIC-LOCATION:America/New_York
BEGIN:DAYLIGHT
TZOFFSETFROM:-0500
TZOFFSETTO:-0400
TZNAME:EDT
DTSTART:19700308T020000
RRULE:FREQ=YEARLY;BYMONTH=3;BYDAY=2SU
END:DAYLIGHT
BEGIN:STANDARD
TZOFFSETFROM:-0400
TZOFFSETTO:-0500
TZNAME:EST
DTSTART:19701101T020000
RRULE:FREQ=YEARLY;BYMONTH=11;BYDAY=1SU
END:STANDARD
END:VTIMEZONE
BEGIN:VEVENT
SUMMARY:3rd & 5th Milestone
DESCRIPTION:5th grade Science sections 1 &amp\; 2\n\n3rd grade ELA section
  3
X-ALT-DESC;FMTTYPE=text/html:<p>5th grade Science sections 1 & 2</p><
 p>3rd grade ELA section 3</p>
DTSTAMP:20260421T173241Z
UID:126099@Cobb.sbc
SEQUENCE:1
URL;VALUE=URI:https://www.cobbk12.org/_ci/calendar/event/126099
DTSTART;TZID=America/New_York:20260423T080000
DTEND;TZID=America/New_York:20260423T100000
END:VEVENT
END:VCALENDAR
