BEGIN:VCALENDAR
VERSION:2.0
PRODID:-//SchoolBundle//NONSGML Calendar 1.0//EN
BEGIN:VTIMEZONE
TZID:America/New_York
X-LIC-LOCATION:America/New_York
BEGIN:DAYLIGHT
TZOFFSETFROM:-0500
TZOFFSETTO:-0400
TZNAME:EDT
DTSTART:19700308T020000
RRULE:FREQ=YEARLY;BYMONTH=3;BYDAY=2SU
END:DAYLIGHT
BEGIN:STANDARD
TZOFFSETFROM:-0400
TZOFFSETTO:-0500
TZNAME:EST
DTSTART:19701101T020000
RRULE:FREQ=YEARLY;BYMONTH=11;BYDAY=1SU
END:STANDARD
END:VTIMEZONE
BEGIN:VEVENT
SUMMARY:V Baseball State Playoffs - Round 1 (DH)
LOCATION:Hillgrove High School
DESCRIPTION:AWAY at Hillgrove HS - State Rd. 1 DH (Game times 4:00/6:30)
X-ALT-DESC;FMTTYPE=text/html:<p>AWAY at Hillgrove HS - State Rd. 1 DH
  (Game times 4:00/6:30)</p>
DTSTAMP:20260422T161133Z
UID:123824@Cobb.sbc
SEQUENCE:2
URL;VALUE=URI:https://www.cobbk12.org/_ci/calendar/event/123824
DTSTART;TZID=America/New_York:20260424T160000
DTEND;TZID=America/New_York:20260424T210000
END:VEVENT
END:VCALENDAR
