BEGIN:VCALENDAR
VERSION:2.0
PRODID:-//SchoolBundle//NONSGML Calendar 1.0//EN
BEGIN:VTIMEZONE
TZID:America/Winnipeg
X-LIC-LOCATION:America/Winnipeg
BEGIN:DAYLIGHT
TZOFFSETFROM:-0600
TZOFFSETTO:-0500
TZNAME:CDT
DTSTART:19700308T020000
RRULE:FREQ=YEARLY;BYMONTH=3;BYDAY=2SU
END:DAYLIGHT
BEGIN:STANDARD
TZOFFSETFROM:-0500
TZOFFSETTO:-0600
TZNAME:CST
DTSTART:19701101T020000
RRULE:FREQ=YEARLY;BYMONTH=11;BYDAY=1SU
END:STANDARD
END:VTIMEZONE
BEGIN:VEVENT
SUMMARY:Tickets for Spring Concert 
DESCRIPTION:Grade 6 to 8 is presenting No Body to Murder on May 22nd.  Tic
 kets will be available to purchase right up to May 21st.\n\nTickets are $
 2.00 per person
X-ALT-DESC;FMTTYPE=text/html:<p>Grade 6 to 8 is presenting No Body to
  Murder on May 22nd.  Tickets will be available to purchase right 
 up to May 21st.</p><p>Tickets are $2.00 per person</p>
DTSTAMP:20260425T130952Z
UID:25560@Bsd.sbc
SEQUENCE:1
URL;VALUE=URI:https://www.bsd.ca/_ci/calendar/event/25560
DTSTART;TZID=America/Winnipeg:20260501T080000
DTEND;TZID=America/Winnipeg:20260501T083000
END:VEVENT
END:VCALENDAR
