BEGIN:VCALENDAR
VERSION:2.0
PRODID:-//SchoolBundle//NONSGML Calendar 1.0//EN
BEGIN:VTIMEZONE
TZID:America/Winnipeg
X-LIC-LOCATION:America/Winnipeg
BEGIN:DAYLIGHT
TZOFFSETFROM:-0600
TZOFFSETTO:-0500
TZNAME:CDT
DTSTART:19700308T020000
RRULE:FREQ=YEARLY;BYMONTH=3;BYDAY=2SU
END:DAYLIGHT
BEGIN:STANDARD
TZOFFSETFROM:-0500
TZOFFSETTO:-0600
TZNAME:CST
DTSTART:19701101T020000
RRULE:FREQ=YEARLY;BYMONTH=11;BYDAY=1SU
END:STANDARD
END:VTIMEZONE
BEGIN:VEVENT
SUMMARY:Earth Day
DESCRIPTION:Alexander school will celebrate Earth day with fun activities 
 for the kids from 11 till 3
X-ALT-DESC;FMTTYPE=text/html:<p>Alexander school will celebrate Earth
  day with fun activities for the kids from 11 till 3</p>
DTSTAMP:20260425T131425Z
UID:25552@Bsd.sbc
SEQUENCE:3
URL;VALUE=URI:https://www.bsd.ca/_ci/calendar/event/25552
DTSTART;TZID=America/Winnipeg:20260429T110000
DTEND;TZID=America/Winnipeg:20260429T113000
END:VEVENT
END:VCALENDAR
